BEGIN:VCALENDAR
VERSION:2.0
PRODID:-//eventon.com NONSGML v1.0//EN
CALSCALE:GREGORIAN
METHOD:PUBLISH
BEGIN:VEVENT
UID:69e506cf6819e
DTSTAMP:20260419T164607Z
DTSTART:20251125T114600Z
DTEND:20251222T210000Z
LOCATION:
SUMMARY:Weihnachten - Gans -Entspannt - Geniessen
DESCRIPTION:„Festlicher Genuss für daheim: Die Weihnachtsgans vom 4Seaso
 ns Gasthaus“ Wir bereiten für Sie Ihre Weihnachtsgans mit Semmelfülle\,
   Rotkraut und Sauce für die Festtage zuhause vor bis 16.12.2025 unter 066
 4 918 76 61 oder gasthaus@4-seasons.at vorbestellen Abholung: am 23.12.2025
  zwischen 10:00 und 15:00 Uhr oder 24.12.2025 von 09:30 bis 11:30 Uhr[..]\n
 https://4-seasons.at/events/weihnachten-gans-entspannt-geniessen/
URL:https://4-seasons.at/events/weihnachten-gans-entspannt-geniessen/
END:VEVENT
END:VCALENDAR