BEGIN:VCALENDAR
VERSION:2.0
PRODID:-//eventon.com NONSGML v1.0//EN
CALSCALE:GREGORIAN
METHOD:PUBLISH
BEGIN:VEVENT
UID:69e50768a49be
DTSTAMP:20260419T164840Z
DTSTART:20260621T170000Z
DTEND:20260621T220000Z
LOCATION:
SUMMARY:Dinner im Weingarten 2026
DESCRIPTION:GenieĂen Sie am Sonntag\,  den 21. Juni 2026 ein exklusives â
 Dinner im Weingartenâ und lassen Sie sich von der einzigartigen AtmosphĂ
 ¤re verzaubern\,  wenn die Sonne malerisch Ăźber den Reben untergeht. Freue
 n Sie sich auf: Ein exquisites 5-GĂ¤nge-SpezialitĂ¤ten-MenĂź Professionelle
  Weinbegleitung vom Weingut Norbert Greil Musikalischen Ohrenschmaus mit "D
 ie Kynd-Buam" Erstklassiges Catering[..]\nhttps://4-seasons.at/events/dinne
 r-im-weingarten-2026-2/
URL:https://4-seasons.at/events/dinner-im-weingarten-2026-2/
END:VEVENT
END:VCALENDAR