BEGIN:VCALENDAR
VERSION:2.0
PRODID:-//eventon.com NONSGML v1.0//EN
CALSCALE:GREGORIAN
METHOD:PUBLISH
BEGIN:VEVENT
UID:69e506babced0
DTSTAMP:20260419T164546Z
DTSTART:20260505T183000Z
DTEND:20260505T230000Z
LOCATION:
SUMMARY:GENUSSWELTMEISTERSCHAFT im 4 Seasons Gasthaus
DESCRIPTION:Am 05. Mai 2026 verwandelt sich das 4 Seasons Gasthaus in eine 
 kulinarische BÃ¼hne fÃ¼r eine ganz besondere Genussreise rund um die Welt. 
 Bei unserer Genussweltmeisterschaft treten sechs LÃ¤nder gegeneinander an â
 €“ jedes Gericht reprÃ¤sentiert eine Nation mit ihren typischen Aromen\,  P
 rodukten und perfekt abgestimmten Weinen. Freuen Sie sich auf[..]\nhttps://
 4-seasons.at/events/genussweltmeisterschaft-im-4-seasons-gasthaus/
URL:https://4-seasons.at/events/genussweltmeisterschaft-im-4-seasons-gasthaus/
END:VEVENT
END:VCALENDAR