BEGIN:VCALENDAR
VERSION:2.0
PRODID:-//eventon.com NONSGML v1.0//EN
CALSCALE:GREGORIAN
METHOD:PUBLISH
BEGIN:VEVENT
UID:69e505df4c32a
DTSTAMP:20260419T164207Z
DTSTART:20260428T180000Z
DTEND:20260428T220000Z
LOCATION:
SUMMARY:Fashion & Beauty Night im 4Seasons Gasthaus
DESCRIPTION:Freuen Sie sich auf einen stilvollen Abend voller Mode\,  Beaut
 y und Genuss. Bei der Fashion & Beauty Night im 4Seasons Gasthaus in Stocke
 rau präsentiert YR Line Fashion ihre aktuelle Kollektion in einer exklusiv
 en Modenschau. Neben der Mode erwartet die Gäste ein inspirierendes Beauty
 -Programm mit persönlichen Beratungen von erfahrenen Expertinnen. Daniela[
 ..]\nhttps://4-seasons.at/events/fashion-beauty-night-im-4seasons-gasthaus/
URL:https://4-seasons.at/events/fashion-beauty-night-im-4seasons-gasthaus/
END:VEVENT
END:VCALENDAR